BEGIN:VCALENDAR
VERSION:2.0
PRODID:-//The Dog Training Club of Bermuda - ECPv6.15.20//NONSGML v1.0//EN
CALSCALE:GREGORIAN
METHOD:PUBLISH
X-ORIGINAL-URL:https://dogtrainingclubbda.org
X-WR-CALDESC:Events for The Dog Training Club of Bermuda
REFRESH-INTERVAL;VALUE=DURATION:PT1H
X-Robots-Tag:noindex
X-PUBLISHED-TTL:PT1H
BEGIN:VTIMEZONE
TZID:Atlantic/Bermuda
BEGIN:DAYLIGHT
TZOFFSETFROM:-0400
TZOFFSETTO:-0300
TZNAME:ADT
DTSTART:20240310T060000
END:DAYLIGHT
BEGIN:STANDARD
TZOFFSETFROM:-0300
TZOFFSETTO:-0400
TZNAME:AST
DTSTART:20241103T050000
END:STANDARD
BEGIN:DAYLIGHT
TZOFFSETFROM:-0400
TZOFFSETTO:-0300
TZNAME:ADT
DTSTART:20250309T060000
END:DAYLIGHT
BEGIN:STANDARD
TZOFFSETFROM:-0300
TZOFFSETTO:-0400
TZNAME:AST
DTSTART:20251102T050000
END:STANDARD
BEGIN:DAYLIGHT
TZOFFSETFROM:-0400
TZOFFSETTO:-0300
TZNAME:ADT
DTSTART:20260308T060000
END:DAYLIGHT
BEGIN:STANDARD
TZOFFSETFROM:-0300
TZOFFSETTO:-0400
TZNAME:AST
DTSTART:20261101T050000
END:STANDARD
END:VTIMEZONE
BEGIN:VEVENT
DTSTART;TZID=Atlantic/Bermuda:20250921T090000
DTEND;TZID=Atlantic/Bermuda:20250921T103000
DTSTAMP:20260424T050558
CREATED:20250914T225916Z
LAST-MODIFIED:20250914T225916Z
UID:660-1758445200-1758450600@dogtrainingclubbda.org
SUMMARY:Sunday Morning Rally
DESCRIPTION:What’s Dog Rally? 🐾\nRally is a fun dog sport where you and your pup work together as a team\, following a course of signs with different obedience-style exercises. It’s a great way to build focus\, confidence\, and teamwork—while keeping training lighthearted and fun! \n\n6-week block starting September 14 (leading right up to the November trials)\nSign-up required\nCost: $30 members / $40 non-members (covers field fees – just $5 a week for members!)\n\nIf you’re planning to join us\, please complete the sign-up form on our website and further details will be provided!  Hope you see you there.
URL:https://dogtrainingclubbda.org/event/sunday-morning-rally-3
ATTACH;FMTTYPE=image/png:https://dogtrainingclubbda.org/wp-content/uploads/2025/09/Rally-Logo-for-Events-Page-e1758383614330.png
END:VEVENT
END:VCALENDAR