BEGIN:VCALENDAR
VERSION:2.0
PRODID:-//The Dog Training Club of Bermuda - ECPv6.15.20//NONSGML v1.0//EN
CALSCALE:GREGORIAN
METHOD:PUBLISH
X-ORIGINAL-URL:https://dogtrainingclubbda.org
X-WR-CALDESC:Events for The Dog Training Club of Bermuda
REFRESH-INTERVAL;VALUE=DURATION:PT1H
X-Robots-Tag:noindex
X-PUBLISHED-TTL:PT1H
BEGIN:VTIMEZONE
TZID:Atlantic/Bermuda
BEGIN:DAYLIGHT
TZOFFSETFROM:-0400
TZOFFSETTO:-0300
TZNAME:ADT
DTSTART:20250309T060000
END:DAYLIGHT
BEGIN:STANDARD
TZOFFSETFROM:-0300
TZOFFSETTO:-0400
TZNAME:AST
DTSTART:20251102T050000
END:STANDARD
BEGIN:DAYLIGHT
TZOFFSETFROM:-0400
TZOFFSETTO:-0300
TZNAME:ADT
DTSTART:20260308T060000
END:DAYLIGHT
BEGIN:STANDARD
TZOFFSETFROM:-0300
TZOFFSETTO:-0400
TZNAME:AST
DTSTART:20261101T050000
END:STANDARD
BEGIN:DAYLIGHT
TZOFFSETFROM:-0400
TZOFFSETTO:-0300
TZNAME:ADT
DTSTART:20270314T060000
END:DAYLIGHT
BEGIN:STANDARD
TZOFFSETFROM:-0300
TZOFFSETTO:-0400
TZNAME:AST
DTSTART:20271107T050000
END:STANDARD
END:VTIMEZONE
BEGIN:VEVENT
DTSTART;TZID=Atlantic/Bermuda:20260501T150000
DTEND;TZID=Atlantic/Bermuda:20260501T163000
DTSTAMP:20260423T173729
CREATED:20260417T124526Z
LAST-MODIFIED:20260417T224216Z
UID:902-1777647600-1777653000@dogtrainingclubbda.org
SUMMARY:Canine Club – Spring Term 2026 (Somersfield Academy)
DESCRIPTION:Students learn the art and science of working with dogs through hands-on experience. Over the course of the term\, we explore dog safety\, canine body language\, positive reinforcement training\, and Rally – a sport built entirely around communication between handler and dog. Each week builds on the last\, moving from foundational skills like reading a dog’s signals and using a clicker\, through to designing and running their own Rally courses. The term wraps up with a Fun Match — a friendly scored Rally event celebrating the students’ progress across the term!
URL:https://dogtrainingclubbda.org/event/canine-club-spring-term-2026-somersfield-academy-2
LOCATION:Somersfield Academy\, Middle Rd\, Devonshire
ATTACH;FMTTYPE=image/png:https://dogtrainingclubbda.org/wp-content/uploads/2026/04/Canine-Club-4.png
END:VEVENT
END:VCALENDAR