BEGIN:VCALENDAR
VERSION:2.0
PRODID:-//The Dog Training Club of Bermuda - ECPv6.15.20//NONSGML v1.0//EN
CALSCALE:GREGORIAN
METHOD:PUBLISH
X-WR-CALNAME:The Dog Training Club of Bermuda
X-ORIGINAL-URL:https://dogtrainingclubbda.org
X-WR-CALDESC:Events for The Dog Training Club of Bermuda
REFRESH-INTERVAL;VALUE=DURATION:PT1H
X-Robots-Tag:noindex
X-PUBLISHED-TTL:PT1H
BEGIN:VTIMEZONE
TZID:Atlantic/Bermuda
BEGIN:DAYLIGHT
TZOFFSETFROM:-0400
TZOFFSETTO:-0300
TZNAME:ADT
DTSTART:20240310T060000
END:DAYLIGHT
BEGIN:STANDARD
TZOFFSETFROM:-0300
TZOFFSETTO:-0400
TZNAME:AST
DTSTART:20241103T050000
END:STANDARD
BEGIN:DAYLIGHT
TZOFFSETFROM:-0400
TZOFFSETTO:-0300
TZNAME:ADT
DTSTART:20250309T060000
END:DAYLIGHT
BEGIN:STANDARD
TZOFFSETFROM:-0300
TZOFFSETTO:-0400
TZNAME:AST
DTSTART:20251102T050000
END:STANDARD
BEGIN:DAYLIGHT
TZOFFSETFROM:-0400
TZOFFSETTO:-0300
TZNAME:ADT
DTSTART:20260308T060000
END:DAYLIGHT
BEGIN:STANDARD
TZOFFSETFROM:-0300
TZOFFSETTO:-0400
TZNAME:AST
DTSTART:20261101T050000
END:STANDARD
END:VTIMEZONE
BEGIN:VEVENT
DTSTART;TZID=Atlantic/Bermuda:20251004T140000
DTEND;TZID=Atlantic/Bermuda:20251004T160000
DTSTAMP:20260424T081714
CREATED:20250914T220124Z
LAST-MODIFIED:20250914T223826Z
UID:623-1759586400-1759593600@dogtrainingclubbda.org
SUMMARY:Dog Toy Swap & Supply Drive
DESCRIPTION:Join us for a community event to refresh your dog’s toy box\, help dogs in need\, and connect with fellow dog enthusiasts! \nDog supplies also welcome! We’re also collecting gently used non-toy items like: \n• leashes\, collars\, harnesses\n• bowls\, Kongs\n• Bed\, towels\n• Crates\, carriers and more \nDonations will go to the Forget Me Not Canine Center and / or the SPCA. \nHumans only\, please! We love your dogs\, but for safety and space\, they’ll need to stay home this time.
URL:https://dogtrainingclubbda.org/event/dog-toy-swap-supply-drive
ATTACH;FMTTYPE=image/png:https://dogtrainingclubbda.org/wp-content/uploads/2025/09/Toy-Swap-Logo.Orange.png
END:VEVENT
END:VCALENDAR