BEGIN:VCALENDAR
VERSION:2.0
PRODID:-//The Dog Training Club of Bermuda - ECPv6.15.20//NONSGML v1.0//EN
CALSCALE:GREGORIAN
METHOD:PUBLISH
X-ORIGINAL-URL:https://dogtrainingclubbda.org
X-WR-CALDESC:Events for The Dog Training Club of Bermuda
REFRESH-INTERVAL;VALUE=DURATION:PT1H
X-Robots-Tag:noindex
X-PUBLISHED-TTL:PT1H
BEGIN:VTIMEZONE
TZID:Atlantic/Bermuda
BEGIN:DAYLIGHT
TZOFFSETFROM:-0400
TZOFFSETTO:-0300
TZNAME:ADT
DTSTART:20240310T060000
END:DAYLIGHT
BEGIN:STANDARD
TZOFFSETFROM:-0300
TZOFFSETTO:-0400
TZNAME:AST
DTSTART:20241103T050000
END:STANDARD
BEGIN:DAYLIGHT
TZOFFSETFROM:-0400
TZOFFSETTO:-0300
TZNAME:ADT
DTSTART:20250309T060000
END:DAYLIGHT
BEGIN:STANDARD
TZOFFSETFROM:-0300
TZOFFSETTO:-0400
TZNAME:AST
DTSTART:20251102T050000
END:STANDARD
BEGIN:DAYLIGHT
TZOFFSETFROM:-0400
TZOFFSETTO:-0300
TZNAME:ADT
DTSTART:20260308T060000
END:DAYLIGHT
BEGIN:STANDARD
TZOFFSETFROM:-0300
TZOFFSETTO:-0400
TZNAME:AST
DTSTART:20261101T050000
END:STANDARD
END:VTIMEZONE
BEGIN:VEVENT
DTSTART;TZID=Atlantic/Bermuda:20251129T080000
DTEND;TZID=Atlantic/Bermuda:20251130T170000
DTSTAMP:20260424T042714
CREATED:20250509T132654Z
LAST-MODIFIED:20251012T174116Z
UID:548-1764403200-1764522000@dogtrainingclubbda.org
SUMMARY:Fall 2025 Agility Trials
DESCRIPTION:AGILITY TRIALS at Botanical Gardens 🐾 \nFor more information see attached premium list and entry form. \nAgility Premium list \nAgility Entry Form
URL:https://dogtrainingclubbda.org/event/fall-2025-agility-trials
LOCATION:Botanical Gardens\, Bermuda
ATTACH;FMTTYPE=image/jpeg:https://dogtrainingclubbda.org/wp-content/uploads/2025/05/Solace-agility-scaled-e1760114954252.jpg
END:VEVENT
END:VCALENDAR