BEGIN:VCALENDAR
VERSION:2.0
PRODID:-//The Dog Training Club of Bermuda - ECPv6.15.20//NONSGML v1.0//EN
CALSCALE:GREGORIAN
METHOD:PUBLISH
X-WR-CALNAME:The Dog Training Club of Bermuda
X-ORIGINAL-URL:https://dogtrainingclubbda.org
X-WR-CALDESC:Events for The Dog Training Club of Bermuda
REFRESH-INTERVAL;VALUE=DURATION:PT1H
X-Robots-Tag:noindex
X-PUBLISHED-TTL:PT1H
BEGIN:VTIMEZONE
TZID:Atlantic/Bermuda
BEGIN:DAYLIGHT
TZOFFSETFROM:-0400
TZOFFSETTO:-0300
TZNAME:ADT
DTSTART:20250309T060000
END:DAYLIGHT
BEGIN:STANDARD
TZOFFSETFROM:-0300
TZOFFSETTO:-0400
TZNAME:AST
DTSTART:20251102T050000
END:STANDARD
BEGIN:DAYLIGHT
TZOFFSETFROM:-0400
TZOFFSETTO:-0300
TZNAME:ADT
DTSTART:20260308T060000
END:DAYLIGHT
BEGIN:STANDARD
TZOFFSETFROM:-0300
TZOFFSETTO:-0400
TZNAME:AST
DTSTART:20261101T050000
END:STANDARD
BEGIN:DAYLIGHT
TZOFFSETFROM:-0400
TZOFFSETTO:-0300
TZNAME:ADT
DTSTART:20270314T060000
END:DAYLIGHT
BEGIN:STANDARD
TZOFFSETFROM:-0300
TZOFFSETTO:-0400
TZNAME:AST
DTSTART:20271107T050000
END:STANDARD
END:VTIMEZONE
BEGIN:VEVENT
DTSTART;TZID=Atlantic/Bermuda:20260301T090000
DTEND;TZID=Atlantic/Bermuda:20260301T110000
DTSTAMP:20260423T193439
CREATED:20260219T215336Z
LAST-MODIFIED:20260219T234350Z
UID:833-1772355600-1772362800@dogtrainingclubbda.org
SUMMARY:Rally Fun Match
DESCRIPTION:This is an unofficial event. There will be no qualifying results or official recording of the proceedings. \nEntry Deadline – Friday\, February 27\, 2026 \nRally Fun Match – Important Information\n\nFun match will be held at DogPlay in Devonshire.\nCheck-In & Start Time: Check-in: 9:00 AM / Start: 9:30 AM\nOne run per fun match per dog\nDogs may opt to enter both matches (Fun Match 1 and Fun Match 2)\nEntry fee: $10 per dog per match\nPayment in advance via bank transfer to: The Dog Training Club of Bermuda\, HSBC 010-172856-011 is preferred; exact cash accepted on the day\nNo same-day entries accepted\nDogs must be at least 6 months old and fully vaccinated\nToys are allowed in the ring\, no food\nFun Match 1: Novice → Masters / Fun Match 2: Masters → Novice\n\n  \n\n	Notice: JavaScript is required for this content.
URL:https://dogtrainingclubbda.org/event/rally-fun-match-at-dogplay-in-devonshire-on-sunday-march-1-2026
LOCATION:Dog Play\, Bermuda
CATEGORIES:Rally Fun Match
END:VEVENT
END:VCALENDAR