BEGIN:VCALENDAR
VERSION:2.0
PRODID:-//The Dog Training Club of Bermuda - ECPv6.15.20//NONSGML v1.0//EN
CALSCALE:GREGORIAN
METHOD:PUBLISH
X-ORIGINAL-URL:https://dogtrainingclubbda.org
X-WR-CALDESC:Events for The Dog Training Club of Bermuda
REFRESH-INTERVAL;VALUE=DURATION:PT1H
X-Robots-Tag:noindex
X-PUBLISHED-TTL:PT1H
BEGIN:VTIMEZONE
TZID:Atlantic/Bermuda
BEGIN:DAYLIGHT
TZOFFSETFROM:-0400
TZOFFSETTO:-0300
TZNAME:ADT
DTSTART:20240310T060000
END:DAYLIGHT
BEGIN:STANDARD
TZOFFSETFROM:-0300
TZOFFSETTO:-0400
TZNAME:AST
DTSTART:20241103T050000
END:STANDARD
BEGIN:DAYLIGHT
TZOFFSETFROM:-0400
TZOFFSETTO:-0300
TZNAME:ADT
DTSTART:20250309T060000
END:DAYLIGHT
BEGIN:STANDARD
TZOFFSETFROM:-0300
TZOFFSETTO:-0400
TZNAME:AST
DTSTART:20251102T050000
END:STANDARD
BEGIN:DAYLIGHT
TZOFFSETFROM:-0400
TZOFFSETTO:-0300
TZNAME:ADT
DTSTART:20260308T060000
END:DAYLIGHT
BEGIN:STANDARD
TZOFFSETFROM:-0300
TZOFFSETTO:-0400
TZNAME:AST
DTSTART:20261101T050000
END:STANDARD
END:VTIMEZONE
BEGIN:VEVENT
DTSTART;TZID=Atlantic/Bermuda:20251022T173000
DTEND;TZID=Atlantic/Bermuda:20251022T193000
DTSTAMP:20260423T184219
CREATED:20250916T235208Z
LAST-MODIFIED:20250924T192437Z
UID:670-1761154200-1761161400@dogtrainingclubbda.org
SUMMARY:Canine Good Citizen Test
DESCRIPTION:Ready to show off your dog’s good manners? \nJoin us for the CGC Test and see how your dog shines in everyday situations. A great way to celebrate your training success! Spots are limited\, so register early.  Participants will be assigned a test time within the time window and asked to wait outside quietly until called in by the judge. \nADVANCE REGISTRATION IS REQUIRED \n\n	Notice: JavaScript is required for this content.\n\n\n    \n\n\n        \n        \n        \nClick below for CGC test items: \nCGC Test Items
URL:https://dogtrainingclubbda.org/event/canine-good-citizen-test
LOCATION:Botanical Gardens\, Bermuda
CATEGORIES:Canine Good Citizen Test,CGC
ATTACH;FMTTYPE=image/png:https://dogtrainingclubbda.org/wp-content/uploads/2025/09/CGC-Test-Logo-for-Events-Page-e1758381665531.png
END:VEVENT
BEGIN:VEVENT
DTSTART;TZID=Atlantic/Bermuda:20251012T103000
DTEND;TZID=Atlantic/Bermuda:20251012T113000
DTSTAMP:20260423T184219
CREATED:20250916T235944Z
LAST-MODIFIED:20250924T192402Z
UID:673-1760265000-1760268600@dogtrainingclubbda.org
SUMMARY:Canine Good Citizen (CGC) Refresher (Single Class)
DESCRIPTION:Brush up on your dog’s manners and skills in this one-time CGC refresher session. Perfect for anyone preparing for the CGC Test or just wanting a confidence boost. Limited spots – register early! \nADVANCE REGISTRATION REQUIRED. \n\n	Notice: JavaScript is required for this content.\n\n\n    \n\n\n        \n        \n         \nClick below for CGC test items: \nCGC Test Items
URL:https://dogtrainingclubbda.org/event/save-the-date-canine-good-citizen-cgc-refresher-class
LOCATION:Botanical Gardens\, Bermuda
CATEGORIES:Canine Good Citizen Test,CGC
ATTACH;FMTTYPE=image/png:https://dogtrainingclubbda.org/wp-content/uploads/2025/09/CGC-Classes-Logo-for-Events-Page-e1758381960650.png
END:VEVENT
END:VCALENDAR